BEGIN:VCALENDAR
VERSION:2.0
PRODID:CTEOnline
BEGIN:VEVENT
UID:518706-781@cteonline.org
LOCATION:Webinar
SUMMARY;ENCODING=QUOTED-PRINTABLE:Writing CTE Courses for 'A-G' Approval (Writing CTE Courses for 'A-G' Approval Webinar)
DESCRIPTION;ENCODING=QUOTED-PRINTABLE:Obtaining A-G approval for Career Technical Educational (CTE) courses has become increasingly important and is an important component of preparing students for college and caeers. This workshop will guide teachers and curriculum writers through the process of writing A-G approval for CTE courses, while using the UC Doorways Portal. Participants should talk to their sites to gain access to the portal before the webinar if possible.   Participants will be able to:  Write a new course of study Adopt an existing course Revise a course that is in the portal for their use Update their existing A-G approved course   Target Audience: Secondary teachers, curriculm writers and administrators. REGISTER HERE Date: January 18, 2017 Time: 3:30 p.m. &ndash; 4:30 p.m. Webinar Link will be included in the confirmation email. Sponsored by: CCPT-TAP
X-ALT-DESC;FMTTYPE=text/html:<p>Obtaining A-G approval for Career Technical Educational (CTE) courses has become increasingly important and is an important component of preparing students for college and caeers. This workshop will guide teachers and curriculum writers through the process of writing A-G approval for CTE courses, while using the UC Doorways Portal. Participants should talk to their sites to gain access to the portal before the webinar if possible.</p> <p> </p> <p>Participants will be able to:</p> <ul> <li>Write a new course of study</li> <li>Adopt an existing course</li> <li>Revise a course that is in the portal for their use</li> <li>Update their existing A-G approved course</li></ul> <p> </p> <p>Target Audience: Secondary teachers, curriculm writers and administrators.</p> <p><a href="https://goo.gl/forms/CywrIWXKKS46gw983"><strong>REGISTER HERE</strong></a></p> <p>Date: January 18, 2017</p> <p>Time: 3:30 p.m. &ndash; 4:30 p.m.</p> <p>Webinar Link will be included in the confirmation email.</p> <p>Sponsored by: CCPT-TAP</p>
DTSTAMP;TZID=US/Pacific;VALUE=DATE-TIME:20170118T153000
DTSTART;TZID=US/Pacific;VALUE=DATE-TIME:20170118T153000
DTEND;TZID=US/Pacific;VALUE=DATE-TIME:20170118T163000
END:VEVENT
END:VCALENDAR