BEGIN:VCALENDAR
VERSION:2.0
PRODID:CTEOnline
BEGIN:VEVENT
UID:518304-718@cteonline.org
LOCATION:Multiple Locations
SUMMARY;ENCODING=QUOTED-PRINTABLE:Designing Integrated Curriculm (Designing Integrated Curriculm - Oakland)
DESCRIPTION;ENCODING=QUOTED-PRINTABLE:In today's dynamic, global economy, centered on the development and exchange of knowledge and information, individuals who have fluent skills and knowledge in several content areas and are able to navigate them, will prosper. Critical thinking, creativity, communication, collaboration, and adaptability are highly valued skills. When it comes to fostering those skills in the classroom, integrated curriculum can be an extremely effective approach, helping students develop multifaceted expertise to be ready for the world of work. Learn how to design and create curriculum that integrates the California State Standards Content, Practices, and Work Based Learning partnerships in several content areas to leverage the Career Pathway Structure. Target Audience: Teachers and Instructional Coaches October 27, 2016 8:30 a.m. &ndash; 4:30 p.m. Fresno Pacific University 245 N. Plaza Drive Visalia November 2, 2016 8:30 a.m. &ndash; 4:30 p.m. Hilton Oakland Airport 1 Hegenberger Road Oakland November 4, 2016 8:30 a.m. &ndash; 4:30 p.m. Yolo County Office of Education 1280 Santa Anita Court Woodland January 10, 2017 8:30 a.m. &ndash; 4:30 p.m. Edison 3126 North Glenrose Ave. Altadena Register Here: https://goo.gl/forms/sDXfwbKDslt7Dzic2
X-ALT-DESC;FMTTYPE=text/html:<p>In today's dynamic, global economy, centered on the development and exchange of knowledge and information, individuals who have fluent skills and knowledge in several content areas and are able to navigate them, will prosper. Critical thinking, creativity, communication, collaboration, and adaptability are highly valued skills. When it comes to fostering those skills in the classroom, integrated curriculum can be an extremely effective approach, helping students develop multifaceted expertise to be ready for the world of work. Learn how to design and create curriculum that integrates the California State Standards Content, Practices, and Work Based Learning partnerships in several content areas to leverage the Career Pathway Structure. Target Audience: Teachers and Instructional Coaches</p> <p>October 27, 2016 8:30 a.m. &ndash; 4:30 p.m. Fresno Pacific University 245 N. Plaza Drive Visalia</p> <p>November 2, 2016 8:30 a.m. &ndash; 4:30 p.m. Hilton Oakland Airport 1 Hegenberger Road Oakland</p> <p>November 4, 2016 8:30 a.m. &ndash; 4:30 p.m. Yolo County Office of Education 1280 Santa Anita Court Woodland</p> <p>January 10, 2017 8:30 a.m. &ndash; 4:30 p.m. Edison 3126 North Glenrose Ave. Altadena</p> <p>Register Here: <a href="https://goo.gl/forms/sDXfwbKDslt7Dzic2">https://goo.gl/forms/sDXfwbKDslt7Dzic2</a></p>
DTSTAMP;TZID=US/Pacific;VALUE=DATE-TIME:20161102T083000
DTSTART;TZID=US/Pacific;VALUE=DATE-TIME:20161102T083000
DTEND;TZID=US/Pacific;VALUE=DATE-TIME:20161102T163000
END:VEVENT
BEGIN:VEVENT
UID:518304-720@cteonline.org
LOCATION:Multiple Locations
SUMMARY;ENCODING=QUOTED-PRINTABLE:Designing Integrated Curriculm (Designing Integrated Curriculm - Altadena )
DESCRIPTION;ENCODING=QUOTED-PRINTABLE:In today's dynamic, global economy, centered on the development and exchange of knowledge and information, individuals who have fluent skills and knowledge in several content areas and are able to navigate them, will prosper. Critical thinking, creativity, communication, collaboration, and adaptability are highly valued skills. When it comes to fostering those skills in the classroom, integrated curriculum can be an extremely effective approach, helping students develop multifaceted expertise to be ready for the world of work. Learn how to design and create curriculum that integrates the California State Standards Content, Practices, and Work Based Learning partnerships in several content areas to leverage the Career Pathway Structure. Target Audience: Teachers and Instructional Coaches October 27, 2016 8:30 a.m. &ndash; 4:30 p.m. Fresno Pacific University 245 N. Plaza Drive Visalia November 2, 2016 8:30 a.m. &ndash; 4:30 p.m. Hilton Oakland Airport 1 Hegenberger Road Oakland November 4, 2016 8:30 a.m. &ndash; 4:30 p.m. Yolo County Office of Education 1280 Santa Anita Court Woodland January 10, 2017 8:30 a.m. &ndash; 4:30 p.m. Edison 3126 North Glenrose Ave. Altadena Register Here: https://goo.gl/forms/sDXfwbKDslt7Dzic2
X-ALT-DESC;FMTTYPE=text/html:<p>In today's dynamic, global economy, centered on the development and exchange of knowledge and information, individuals who have fluent skills and knowledge in several content areas and are able to navigate them, will prosper. Critical thinking, creativity, communication, collaboration, and adaptability are highly valued skills. When it comes to fostering those skills in the classroom, integrated curriculum can be an extremely effective approach, helping students develop multifaceted expertise to be ready for the world of work. Learn how to design and create curriculum that integrates the California State Standards Content, Practices, and Work Based Learning partnerships in several content areas to leverage the Career Pathway Structure. Target Audience: Teachers and Instructional Coaches</p> <p>October 27, 2016 8:30 a.m. &ndash; 4:30 p.m. Fresno Pacific University 245 N. Plaza Drive Visalia</p> <p>November 2, 2016 8:30 a.m. &ndash; 4:30 p.m. Hilton Oakland Airport 1 Hegenberger Road Oakland</p> <p>November 4, 2016 8:30 a.m. &ndash; 4:30 p.m. Yolo County Office of Education 1280 Santa Anita Court Woodland</p> <p>January 10, 2017 8:30 a.m. &ndash; 4:30 p.m. Edison 3126 North Glenrose Ave. Altadena</p> <p>Register Here: <a href="https://goo.gl/forms/sDXfwbKDslt7Dzic2">https://goo.gl/forms/sDXfwbKDslt7Dzic2</a></p>
DTSTAMP;TZID=US/Pacific;VALUE=DATE-TIME:20170110T083000
DTSTART;TZID=US/Pacific;VALUE=DATE-TIME:20170110T083000
DTEND;TZID=US/Pacific;VALUE=DATE-TIME:20170110T163000
END:VEVENT
BEGIN:VEVENT
UID:518304-721@cteonline.org
LOCATION:Multiple Locations
SUMMARY;ENCODING=QUOTED-PRINTABLE:Designing Integrated Curriculm (Designing Integrated Curriculm - Visalia)
DESCRIPTION;ENCODING=QUOTED-PRINTABLE:In today's dynamic, global economy, centered on the development and exchange of knowledge and information, individuals who have fluent skills and knowledge in several content areas and are able to navigate them, will prosper. Critical thinking, creativity, communication, collaboration, and adaptability are highly valued skills. When it comes to fostering those skills in the classroom, integrated curriculum can be an extremely effective approach, helping students develop multifaceted expertise to be ready for the world of work. Learn how to design and create curriculum that integrates the California State Standards Content, Practices, and Work Based Learning partnerships in several content areas to leverage the Career Pathway Structure. Target Audience: Teachers and Instructional Coaches October 27, 2016 8:30 a.m. &ndash; 4:30 p.m. Fresno Pacific University 245 N. Plaza Drive Visalia November 2, 2016 8:30 a.m. &ndash; 4:30 p.m. Hilton Oakland Airport 1 Hegenberger Road Oakland November 4, 2016 8:30 a.m. &ndash; 4:30 p.m. Yolo County Office of Education 1280 Santa Anita Court Woodland January 10, 2017 8:30 a.m. &ndash; 4:30 p.m. Edison 3126 North Glenrose Ave. Altadena Register Here: https://goo.gl/forms/sDXfwbKDslt7Dzic2
X-ALT-DESC;FMTTYPE=text/html:<p>In today's dynamic, global economy, centered on the development and exchange of knowledge and information, individuals who have fluent skills and knowledge in several content areas and are able to navigate them, will prosper. Critical thinking, creativity, communication, collaboration, and adaptability are highly valued skills. When it comes to fostering those skills in the classroom, integrated curriculum can be an extremely effective approach, helping students develop multifaceted expertise to be ready for the world of work. Learn how to design and create curriculum that integrates the California State Standards Content, Practices, and Work Based Learning partnerships in several content areas to leverage the Career Pathway Structure. Target Audience: Teachers and Instructional Coaches</p> <p>October 27, 2016 8:30 a.m. &ndash; 4:30 p.m. Fresno Pacific University 245 N. Plaza Drive Visalia</p> <p>November 2, 2016 8:30 a.m. &ndash; 4:30 p.m. Hilton Oakland Airport 1 Hegenberger Road Oakland</p> <p>November 4, 2016 8:30 a.m. &ndash; 4:30 p.m. Yolo County Office of Education 1280 Santa Anita Court Woodland</p> <p>January 10, 2017 8:30 a.m. &ndash; 4:30 p.m. Edison 3126 North Glenrose Ave. Altadena</p> <p>Register Here: <a href="https://goo.gl/forms/sDXfwbKDslt7Dzic2">https://goo.gl/forms/sDXfwbKDslt7Dzic2</a></p>
DTSTAMP;TZID=US/Pacific;VALUE=DATE-TIME:20161027T083000
DTSTART;TZID=US/Pacific;VALUE=DATE-TIME:20161027T083000
DTEND;TZID=US/Pacific;VALUE=DATE-TIME:20161102T163000
END:VEVENT
BEGIN:VEVENT
UID:518304-719@cteonline.org
LOCATION:Multiple Locations
SUMMARY;ENCODING=QUOTED-PRINTABLE:Designing Integrated Curriculm (Designing Integrated Curriculm - Woodland)
DESCRIPTION;ENCODING=QUOTED-PRINTABLE:In today's dynamic, global economy, centered on the development and exchange of knowledge and information, individuals who have fluent skills and knowledge in several content areas and are able to navigate them, will prosper. Critical thinking, creativity, communication, collaboration, and adaptability are highly valued skills. When it comes to fostering those skills in the classroom, integrated curriculum can be an extremely effective approach, helping students develop multifaceted expertise to be ready for the world of work. Learn how to design and create curriculum that integrates the California State Standards Content, Practices, and Work Based Learning partnerships in several content areas to leverage the Career Pathway Structure. Target Audience: Teachers and Instructional Coaches October 27, 2016 8:30 a.m. &ndash; 4:30 p.m. Fresno Pacific University 245 N. Plaza Drive Visalia November 2, 2016 8:30 a.m. &ndash; 4:30 p.m. Hilton Oakland Airport 1 Hegenberger Road Oakland November 4, 2016 8:30 a.m. &ndash; 4:30 p.m. Yolo County Office of Education 1280 Santa Anita Court Woodland January 10, 2017 8:30 a.m. &ndash; 4:30 p.m. Edison 3126 North Glenrose Ave. Altadena Register Here: https://goo.gl/forms/sDXfwbKDslt7Dzic2
X-ALT-DESC;FMTTYPE=text/html:<p>In today's dynamic, global economy, centered on the development and exchange of knowledge and information, individuals who have fluent skills and knowledge in several content areas and are able to navigate them, will prosper. Critical thinking, creativity, communication, collaboration, and adaptability are highly valued skills. When it comes to fostering those skills in the classroom, integrated curriculum can be an extremely effective approach, helping students develop multifaceted expertise to be ready for the world of work. Learn how to design and create curriculum that integrates the California State Standards Content, Practices, and Work Based Learning partnerships in several content areas to leverage the Career Pathway Structure. Target Audience: Teachers and Instructional Coaches</p> <p>October 27, 2016 8:30 a.m. &ndash; 4:30 p.m. Fresno Pacific University 245 N. Plaza Drive Visalia</p> <p>November 2, 2016 8:30 a.m. &ndash; 4:30 p.m. Hilton Oakland Airport 1 Hegenberger Road Oakland</p> <p>November 4, 2016 8:30 a.m. &ndash; 4:30 p.m. Yolo County Office of Education 1280 Santa Anita Court Woodland</p> <p>January 10, 2017 8:30 a.m. &ndash; 4:30 p.m. Edison 3126 North Glenrose Ave. Altadena</p> <p>Register Here: <a href="https://goo.gl/forms/sDXfwbKDslt7Dzic2">https://goo.gl/forms/sDXfwbKDslt7Dzic2</a></p>
DTSTAMP;TZID=US/Pacific;VALUE=DATE-TIME:20161104T083000
DTSTART;TZID=US/Pacific;VALUE=DATE-TIME:20161104T083000
DTEND;TZID=US/Pacific;VALUE=DATE-TIME:20161104T163000
END:VEVENT
END:VCALENDAR