BEGIN:VCALENDAR
VERSION:2.0
PRODID:CTEOnline
BEGIN:VEVENT
UID:514319-626@cteonline.org
LOCATION:Ventura County Department of Education  5189 Verdugo Way Camarillo, CA 93012
SUMMARY;ENCODING=QUOTED-PRINTABLE:Camarillo Symposium: December 8-9, 2015 (Camarillo Symposium: December 8-9, 2015)
DESCRIPTION;ENCODING=QUOTED-PRINTABLE:          REGISTRATION    Camarillo Symposium: December 8-9, 2015  Location: Ventura County Department of Education 5189 Verdugo Way Camarillo, CA 93012  Registration/Continental Breakfast - 7:30 a.m. Meeting - Day 1: 8:00 a.m. - 4:30 p.m.  Day 2: 8:00 a.m. - 4:00 p.m.  Contact: Nathan Inouye and Patti Garrett  Nathan.Inouye@vcoe.org pgarrett@slocoe.org                            Register Now           Contact Information  Chris Breazeale Phone: (916) 319-0600 CBreazeale@cde.ca.gov Email Us         Payment Instructions  The registration fee is $250. Registrants may pay by check, purchase order, or credit card.  Purchase orders may be sent to the CCSESA address (below) or faxed to 916-448-7801. Please make checks out to &quot;CCSESA&quot; and send to the CCSESA office:  CCSESA 1121 L Street, Suite 510 Sacramento, CA 95814  There are NO Refunds for Participant          
X-ALT-DESC;FMTTYPE=text/html:<table height="401" id="eventWebsiteDisplayTable" width="865"> <tbody> <tr class="eventContentRow"> <td class="eventContentMain" id="eventWesitePrimaryContent"> <div class="eventContentDetails"> <div id="ctl00_cphEventWebsite_ctl00_cphEventWebsite_efSummaryPanel"> <div> </div> <div> <br /> <p><a href="https://www.regonline.com/Register/Checkin.aspx?EventId=1694944">REGISTRATION</a></p></div> <div> </div> <div id="ctl00_cphEventWebsite_efSummary"> <span id="ctl00_cphEventWebsite_lblSummary"><font size="3"><font size="2"><font size="3"><strong><span style="text-decoration: underline;">Camarillo Symposium:</span></strong></font><strong><span style="text-decoration: underline;"><font size="3"> December 8-9, 2015</font></span></strong><br /> <br /> Location: <strong>Ventura County Department of Education</strong><br /> 5189 Verdugo Way<br /> Camarillo, CA 93012<br /> <br /> <em>Registration/Continental Breakfast</em> - 7:30 a.m.<br /> Meeting - Day 1: 8:00 a.m. - 4:30 p.m. <br /> Day 2: 8:00 a.m. - 4:00 p.m.<br /> <br /> Contact: Nathan Inouye and Patti Garrett <br /> <a href="mailto:Nathan.Inouye@vcoe.org">Nathan.Inouye@vcoe.org</a> <a href="mailto:pgarrett@slocoe.org">pgarrett@slocoe.org</a> </font></font><br /> <br /> <br /> <br /> <br /> <br /> <br /> </span><br /> <br /> <br /> <br /> </div> </div> <div id="ctl00_cphEventWebsite_ctl00_cphEventWebsite_efLodingPanel"> <div id="ctl00_cphEventWebsite_efLoding"> </div> </div> </div> <div> </div> </td> <td class="eventContentSideNav"> <div id="ctl00_ctl00_efSideBarPanel"> <div id="ctl00_efSideBar"> <div id="ctl00_pnlSideBar"> <div id="ctl00_pnlRegisterButton"> <div class="buttonGroup"> <a class="buttonLarge" href="https://www.regonline.com/Register/Checkin.aspx?EventId=1694944" id="aRegBtn" tabindex="0">Register Now </a></div> </div> </div> </div> </div> <div id="ctl00_ctl00_efContactInfoPanel"> <div id="ctl00_efContactInfo"> <div class="letThereBeLists" id="ctl00_pnlContactInfo"> <div class="actionsList"> <h3> Contact Information</h3> <ul> <li>Chris Breazeale<br /> Phone: (916) 319-0600<br /> <a href="mailto:CBreazeale@cde.ca.gov">CBreazeale@cde.ca.gov</a> <a class="email modalDialog" href="https://www.regonline.com/register/dialogs/sendemail.aspx?EventId=1694944" target="_blank">Email Us</a></li></ul></div> </div> </div> </div> <div id="ctl00_ctl00_efPaymentInfoPanel"> <div id="ctl00_efPaymentInfo"> <div class="letThereBeLists" id="ctl00_pnlPaymentInstructions"> <div class="actionsList"> <h3> Payment Instructions</h3> <ul> <li>The registration fee is $250. Registrants may pay by check, purchase order, or credit card.<br /> <br /> Purchase orders may be sent to the CCSESA address (below) or faxed to <strong>916-448-7801</strong>. Please make checks out to <strong>&quot;CCSESA&quot;</strong> and send to the CCSESA office:<br /> <br /> <strong>CCSESA<br /> 1121 L Street, Suite 510<br /> Sacramento, CA 95814</strong><br /> <br /> <strong><font size="3"><span style="text-decoration: underline;">There are NO Refunds for Participant </span></font></strong></li></ul></div> </div> </div> </div> </td> </tr> </tbody> </table> <p> </p>
DTSTAMP;TZID=US/Pacific;VALUE=DATE-TIME:20151208T080000
DTSTART;TZID=US/Pacific;VALUE=DATE-TIME:20151208T080000
DTEND;TZID=US/Pacific;VALUE=DATE-TIME:20151208T163000
END:VEVENT
END:VCALENDAR