BEGIN:VCALENDAR
VERSION:2.0
PRODID:CTEOnline
BEGIN:VEVENT
UID:514318-625@cteonline.org
LOCATION:Santa Clara County Office of Education 1290 Ridder Park Drive, MC201 San Jose, CA 95131
SUMMARY;ENCODING=QUOTED-PRINTABLE:San Jose Symposium:  November 9-10, 2015 (San Jose Symposium:  November 9-10, 2015)
DESCRIPTION;ENCODING=QUOTED-PRINTABLE:REGISTRATION San Jose Symposium: November 9-10, 2015  Location: Santa Clara County Office of Education 1290 Ridder Park Drive, MC201 San Jose, CA 95131  Registration/Continental Breakfast - 7:30 a.m. Meeting - Day 1: 8:00 a.m. - 4:30 p.m.  Day 2: 8:00 a.m. - 4:00 p.m.  Contact: Sandra Yellenberg Sandra_Yellenberg@sccoe.org 
X-ALT-DESC;FMTTYPE=text/html:<p><a href="https://www.regonline.com/Register/Checkin.aspx?EventId=1694944">REGISTRATION</a></p> <p><span id="ctl00_cphEventWebsite_lblSummary"><font size="3"><font size="2"><strong><span style="text-decoration: underline;"><font size="3">San Jose Symposium: November 9-10, 2015</font></span></strong><br /> <br /> Location: <strong>Santa Clara County Office of Education</strong><br /> 1290 Ridder Park Drive, MC201<br /> San Jose, CA 95131<br /> <br /> <em>Registration/Continental Breakfast</em> - 7:30 a.m.<br /> Meeting - Day 1: 8:00 a.m. - 4:30 p.m. <br /> Day 2: 8:00 a.m. - 4:00 p.m.<br /> <br /> Contact: Sandra Yellenberg<br /> <a href="mailto:Sandra_Yellenberg@sccoe.org">Sandra_Yellenberg@sccoe.org</a> </font></font></span></p>
DTSTAMP;TZID=US/Pacific;VALUE=DATE-TIME:20151109T080000
DTSTART;TZID=US/Pacific;VALUE=DATE-TIME:20151109T080000
DTEND;TZID=US/Pacific;VALUE=DATE-TIME:20151109T163000
END:VEVENT
END:VCALENDAR