BEGIN:VCALENDAR
VERSION:2.0
PRODID:CTEOnline
BEGIN:VEVENT
UID:514317-624@cteonline.org
LOCATION:Tehama County Department of Education 1135 Lincoln Street  Red Bluff, CA 96080
SUMMARY;ENCODING=QUOTED-PRINTABLE:Red Bluff Symposium:  November 2-3, 2015 (Red Bluff Symposium:  November 2-3, 2015)
DESCRIPTION;ENCODING=QUOTED-PRINTABLE:  REGISTRATION Red Bluff Symposium: November 2-3, 2015  Location: Tehama County Department of Education 1135 Lincoln Street  Red Bluff, CA 96080  Registration/Continental Breakfast - 7:30 a.m. Meeting - Day 1: 8:00 a.m. - 4:30 p.m.   Day 2: 8:00 a.m. - 4:00 p.m.  Contact: Marian Murphy Shaw mshaw@siskiyoucoe.net 
X-ALT-DESC;FMTTYPE=text/html:<p> </p> <p><a href="https://www.regonline.com/Register/Checkin.aspx?EventId=1694944">REGISTRATION</a></p> <p><span id="ctl00_cphEventWebsite_lblSummary"><font size="3"><strong><span style="text-decoration: underline;">Red Bluff Symposium: November 2-3, 2015</span></strong><br /> <br /> <font size="2">Location: <strong>Tehama County Department of Education</strong><br /> 1135 Lincoln Street</font><br /> <font size="2"><span class="_Xbe"> Red Bluff, CA 96080</span></font><br /> <br /> <em><font size="2">Registration/Continental Breakfast</font></em><font size="2"> - 7:30 a.m.</font><br /> <font size="2">Meeting - Day 1: 8:00 a.m. - 4:30 p.m. </font><br /> <font size="2"> Day 2: 8:00 a.m. - 4:00 p.m.</font><br /> <br /> <font size="2">Contact: Marian Murphy Shaw<br /> <a href="mailto:mshaw@siskiyoucoe.net">mshaw@siskiyoucoe.net</a> </font></font></span></p>
DTSTAMP;TZID=US/Pacific;VALUE=DATE-TIME:20151102T080000
DTSTART;TZID=US/Pacific;VALUE=DATE-TIME:20151102T080000
DTEND;TZID=US/Pacific;VALUE=DATE-TIME:20151103T163000
END:VEVENT
END:VCALENDAR